BEGIN:VCALENDAR
VERSION:2.0
PRODID:-//Holiday Swim Club - ECPv6.15.20//NONSGML v1.0//EN
CALSCALE:GREGORIAN
METHOD:PUBLISH
X-WR-CALNAME:Holiday Swim Club
X-ORIGINAL-URL:https://www.holidayswimclub.org
X-WR-CALDESC:Events for Holiday Swim Club
REFRESH-INTERVAL;VALUE=DURATION:PT1H
X-Robots-Tag:noindex
X-PUBLISHED-TTL:PT1H
BEGIN:VTIMEZONE
TZID:America/Los_Angeles
BEGIN:DAYLIGHT
TZOFFSETFROM:-0800
TZOFFSETTO:-0700
TZNAME:PDT
DTSTART:20250309T100000
END:DAYLIGHT
BEGIN:STANDARD
TZOFFSETFROM:-0700
TZOFFSETTO:-0800
TZNAME:PST
DTSTART:20251102T090000
END:STANDARD
BEGIN:DAYLIGHT
TZOFFSETFROM:-0800
TZOFFSETTO:-0700
TZNAME:PDT
DTSTART:20260308T100000
END:DAYLIGHT
BEGIN:STANDARD
TZOFFSETFROM:-0700
TZOFFSETTO:-0800
TZNAME:PST
DTSTART:20261101T090000
END:STANDARD
BEGIN:DAYLIGHT
TZOFFSETFROM:-0800
TZOFFSETTO:-0700
TZNAME:PDT
DTSTART:20270314T100000
END:DAYLIGHT
BEGIN:STANDARD
TZOFFSETFROM:-0700
TZOFFSETTO:-0800
TZNAME:PST
DTSTART:20271107T090000
END:STANDARD
END:VTIMEZONE
BEGIN:VEVENT
DTSTART;TZID=America/Los_Angeles:20260615T100000
DTEND;TZID=America/Los_Angeles:20260626T103000
DTSTAMP:20260423T073351
CREATED:20260317T181030Z
LAST-MODIFIED:20260404T030853Z
UID:637560-1781517600-1782469800@www.holidayswimclub.org
SUMMARY:Session 1
DESCRIPTION:10:00am
URL:https://www.holidayswimclub.org/event/session-1
END:VEVENT
BEGIN:VEVENT
DTSTART;TZID=America/Los_Angeles:20260615T104000
DTEND;TZID=America/Los_Angeles:20260626T111000
DTSTAMP:20260423T073351
CREATED:20260404T023957Z
LAST-MODIFIED:20260404T023957Z
UID:637754-1781520000-1782472200@www.holidayswimclub.org
SUMMARY:Session 1
DESCRIPTION:10:40am
URL:https://www.holidayswimclub.org/event/session-1-2
END:VEVENT
BEGIN:VEVENT
DTSTART;TZID=America/Los_Angeles:20260615T112000
DTEND;TZID=America/Los_Angeles:20260626T115000
DTSTAMP:20260423T073351
CREATED:20260404T024615Z
LAST-MODIFIED:20260404T045506Z
UID:637760-1781522400-1782474600@www.holidayswimclub.org
SUMMARY:Session 1
DESCRIPTION:11:20am
URL:https://www.holidayswimclub.org/event/session-1-3
END:VEVENT
BEGIN:VEVENT
DTSTART;TZID=America/Los_Angeles:20260615T180000
DTEND;TZID=America/Los_Angeles:20260626T183000
DTSTAMP:20260423T073351
CREATED:20260404T034642Z
LAST-MODIFIED:20260404T034642Z
UID:637806-1781546400-1782498600@www.holidayswimclub.org
SUMMARY:Session 1
DESCRIPTION:6:00pm
URL:https://www.holidayswimclub.org/event/session-1-4
END:VEVENT
BEGIN:VEVENT
DTSTART;TZID=America/Los_Angeles:20260629T100000
DTEND;TZID=America/Los_Angeles:20260710T103000
DTSTAMP:20260423T073351
CREATED:20260317T173457Z
LAST-MODIFIED:20260404T031013Z
UID:637551-1782727200-1783679400@www.holidayswimclub.org
SUMMARY:Session 2
DESCRIPTION:10:00am
URL:https://www.holidayswimclub.org/event/session-2
END:VEVENT
BEGIN:VEVENT
DTSTART;TZID=America/Los_Angeles:20260629T104000
DTEND;TZID=America/Los_Angeles:20260710T111000
DTSTAMP:20260423T073351
CREATED:20260404T024856Z
LAST-MODIFIED:20260404T024856Z
UID:637763-1782729600-1783681800@www.holidayswimclub.org
SUMMARY:Session 2
DESCRIPTION:10:40am
URL:https://www.holidayswimclub.org/event/session-2-2
END:VEVENT
BEGIN:VEVENT
DTSTART;TZID=America/Los_Angeles:20260629T112000
DTEND;TZID=America/Los_Angeles:20260710T115000
DTSTAMP:20260423T073351
CREATED:20260404T025057Z
LAST-MODIFIED:20260404T025346Z
UID:637766-1782732000-1783684200@www.holidayswimclub.org
SUMMARY:Session 2
DESCRIPTION:11:20am
URL:https://www.holidayswimclub.org/event/session-2-3
END:VEVENT
BEGIN:VEVENT
DTSTART;TZID=America/Los_Angeles:20260629T180000
DTEND;TZID=America/Los_Angeles:20260710T183000
DTSTAMP:20260423T073351
CREATED:20260404T034741Z
LAST-MODIFIED:20260404T034741Z
UID:637809-1782756000-1783708200@www.holidayswimclub.org
SUMMARY:Session 2
DESCRIPTION:6:00pm
URL:https://www.holidayswimclub.org/event/session-2-4
END:VEVENT
BEGIN:VEVENT
DTSTART;TZID=America/Los_Angeles:20260713T100000
DTEND;TZID=America/Los_Angeles:20260724T103000
DTSTAMP:20260423T073351
CREATED:20260317T174434Z
LAST-MODIFIED:20260404T035610Z
UID:637553-1783936800-1784889000@www.holidayswimclub.org
SUMMARY:Session 3
DESCRIPTION:10:00am
URL:https://www.holidayswimclub.org/event/session-3
END:VEVENT
BEGIN:VEVENT
DTSTART;TZID=America/Los_Angeles:20260713T104000
DTEND;TZID=America/Los_Angeles:20260724T111000
DTSTAMP:20260423T073351
CREATED:20260404T025544Z
LAST-MODIFIED:20260404T025544Z
UID:637769-1783939200-1784891400@www.holidayswimclub.org
SUMMARY:Session 3
DESCRIPTION:10:40am
URL:https://www.holidayswimclub.org/event/session-3-2
END:VEVENT
BEGIN:VEVENT
DTSTART;TZID=America/Los_Angeles:20260713T112000
DTEND;TZID=America/Los_Angeles:20260724T115000
DTSTAMP:20260423T073351
CREATED:20260404T025955Z
LAST-MODIFIED:20260404T025955Z
UID:637773-1783941600-1784893800@www.holidayswimclub.org
SUMMARY:Session 3
DESCRIPTION:11:20am
URL:https://www.holidayswimclub.org/event/session-3-3
END:VEVENT
BEGIN:VEVENT
DTSTART;TZID=America/Los_Angeles:20260713T180000
DTEND;TZID=America/Los_Angeles:20260724T183000
DTSTAMP:20260423T073351
CREATED:20260404T034931Z
LAST-MODIFIED:20260404T034931Z
UID:637812-1783965600-1784917800@www.holidayswimclub.org
SUMMARY:Session 3
DESCRIPTION:6:00pm
URL:https://www.holidayswimclub.org/event/session-3-4
END:VEVENT
BEGIN:VEVENT
DTSTART;TZID=America/Los_Angeles:20260727T100000
DTEND;TZID=America/Los_Angeles:20260807T103000
DTSTAMP:20260423T073351
CREATED:20260317T174516Z
LAST-MODIFIED:20260404T032248Z
UID:637555-1785146400-1786098600@www.holidayswimclub.org
SUMMARY:Session 4
DESCRIPTION:10:00am
URL:https://www.holidayswimclub.org/event/session-4
END:VEVENT
BEGIN:VEVENT
DTSTART;TZID=America/Los_Angeles:20260727T104000
DTEND;TZID=America/Los_Angeles:20260807T111000
DTSTAMP:20260423T073351
CREATED:20260404T030220Z
LAST-MODIFIED:20260404T030220Z
UID:637776-1785148800-1786101000@www.holidayswimclub.org
SUMMARY:Session 4
DESCRIPTION:10:40am
URL:https://www.holidayswimclub.org/event/session-4-2
END:VEVENT
BEGIN:VEVENT
DTSTART;TZID=America/Los_Angeles:20260727T112000
DTEND;TZID=America/Los_Angeles:20260807T115000
DTSTAMP:20260423T073351
CREATED:20260404T030346Z
LAST-MODIFIED:20260404T034307Z
UID:637779-1785151200-1786103400@www.holidayswimclub.org
SUMMARY:Session 4
DESCRIPTION:11:20am
URL:https://www.holidayswimclub.org/event/session-4-3
END:VEVENT
BEGIN:VEVENT
DTSTART;TZID=America/Los_Angeles:20260727T180000
DTEND;TZID=America/Los_Angeles:20260807T183000
DTSTAMP:20260423T073351
CREATED:20260404T035037Z
LAST-MODIFIED:20260404T035037Z
UID:637815-1785175200-1786127400@www.holidayswimclub.org
SUMMARY:Session 4
DESCRIPTION:6:00pm
URL:https://www.holidayswimclub.org/event/session-4-4
END:VEVENT
BEGIN:VEVENT
DTSTART;TZID=America/Los_Angeles:20260810T100000
DTEND;TZID=America/Los_Angeles:20260821T103000
DTSTAMP:20260423T073351
CREATED:20260402T180857Z
LAST-MODIFIED:20260404T032335Z
UID:637547-1786356000-1787308200@www.holidayswimclub.org
SUMMARY:Session 5
DESCRIPTION:10:00am
URL:https://www.holidayswimclub.org/event/session-5
END:VEVENT
BEGIN:VEVENT
DTSTART;TZID=America/Los_Angeles:20260810T104000
DTEND;TZID=America/Los_Angeles:20260821T111000
DTSTAMP:20260423T073351
CREATED:20260404T030552Z
LAST-MODIFIED:20260404T030552Z
UID:637781-1786358400-1787310600@www.holidayswimclub.org
SUMMARY:Session 5
DESCRIPTION:10:40am
URL:https://www.holidayswimclub.org/event/session-5-2
END:VEVENT
BEGIN:VEVENT
DTSTART;TZID=America/Los_Angeles:20260810T112000
DTEND;TZID=America/Los_Angeles:20260821T115000
DTSTAMP:20260423T073351
CREATED:20260404T030721Z
LAST-MODIFIED:20260404T030721Z
UID:637784-1786360800-1787313000@www.holidayswimclub.org
SUMMARY:Session 5
DESCRIPTION:11:20am
URL:https://www.holidayswimclub.org/event/session-5-3
END:VEVENT
BEGIN:VEVENT
DTSTART;TZID=America/Los_Angeles:20260810T180000
DTEND;TZID=America/Los_Angeles:20260821T183000
DTSTAMP:20260423T073351
CREATED:20260404T035144Z
LAST-MODIFIED:20260404T035144Z
UID:637818-1786384800-1787337000@www.holidayswimclub.org
SUMMARY:Session 5
DESCRIPTION:6:00pm
URL:https://www.holidayswimclub.org/event/session-5-4
END:VEVENT
END:VCALENDAR